BEGIN:VCALENDAR
VERSION:2.0
PRODID:-//Lyon Data Science &ndash; Communaut&eacute; data &amp; IA &agrave; Lyon - ECPv6.15.20//NONSGML v1.0//EN
CALSCALE:GREGORIAN
METHOD:PUBLISH
X-ORIGINAL-URL:https://lyondatascience.org
X-WR-CALDESC:Évènements pour Lyon Data Science &ndash; Communaut&eacute; data &amp; IA &agrave; Lyon
REFRESH-INTERVAL;VALUE=DURATION:PT1H
X-Robots-Tag:noindex
X-PUBLISHED-TTL:PT1H
BEGIN:VTIMEZONE
TZID:Europe/Paris
BEGIN:DAYLIGHT
TZOFFSETFROM:+0100
TZOFFSETTO:+0200
TZNAME:CEST
DTSTART:20160327T010000
END:DAYLIGHT
BEGIN:STANDARD
TZOFFSETFROM:+0200
TZOFFSETTO:+0100
TZNAME:CET
DTSTART:20161030T010000
END:STANDARD
BEGIN:DAYLIGHT
TZOFFSETFROM:+0100
TZOFFSETTO:+0200
TZNAME:CEST
DTSTART:20170326T010000
END:DAYLIGHT
BEGIN:STANDARD
TZOFFSETFROM:+0200
TZOFFSETTO:+0100
TZNAME:CET
DTSTART:20171029T010000
END:STANDARD
BEGIN:DAYLIGHT
TZOFFSETFROM:+0100
TZOFFSETTO:+0200
TZNAME:CEST
DTSTART:20180325T010000
END:DAYLIGHT
BEGIN:STANDARD
TZOFFSETFROM:+0200
TZOFFSETTO:+0100
TZNAME:CET
DTSTART:20181028T010000
END:STANDARD
END:VTIMEZONE
BEGIN:VEVENT
DTSTART;TZID=Europe/Paris:20170629T184500
DTEND;TZID=Europe/Paris:20170629T214500
DTSTAMP:20260423T104545
CREATED:20251005T153428Z
LAST-MODIFIED:20251005T155009Z
UID:1087-1498761900-1498772700@lyondatascience.org
SUMMARY:Session Deep Learning: rappels\, live Coding et retour d'expérience
DESCRIPTION:Bonjour à tous !\nQuoi de mieux pendant les jours de beaux temps\, que de profiter d’une séance en 2 parties sur du Deep Learning 😎 ? \nDans une première partie\, Florian présentera ce qu’est un réseau de neurones. Pour cela il utilisera un exemple concret en tentant de prédire le prix d’une voiture à partir des données du bon coin. Il présentera de manière graphique et mathématique ce qu’est une forward propagation\, backward propagation et l’algorithme d’optimization gradient descent. Il implémentera ensuite le réseau de neurones décrit avec numpy lors d’un live coding (si le temps le permet). La présentation sera basée sur son article: https://matrices.io/deep-neural-network-from-scratch/. \nDans une seconde partie\, des développeurs de l’entreprise lyonnaise Esker montrera une application de TensorFlow et de son outil de visualisation TensorBoard\, pour répondre à un problème d’automatisation de processus documentaires. Ils présenteront un algorithme de Deep Learning qui prend en entrée un fichier contenant un ensemble de factures consécutifs et retourne des fichiers différents pour chacune des factures présentes (sachant qu’une facture peut être composée d’une ou plusieurs pages). \nA très bientôt\, \nL’équipe LDS.
URL:https://lyondatascience.org/evenements/session-deep-learning-rappels-live-coding-et-retour-dexperience/
CATEGORIES:Meetup
END:VEVENT
END:VCALENDAR