BEGIN:VCALENDAR
VERSION:2.0
PRODID:-//Lyon Data Science &ndash; Communaut&eacute; data &amp; IA &agrave; Lyon - ECPv6.15.20//NONSGML v1.0//EN
CALSCALE:GREGORIAN
METHOD:PUBLISH
X-WR-CALNAME:Lyon Data Science &ndash; Communaut&eacute; data &amp; IA &agrave; Lyon
X-ORIGINAL-URL:https://lyondatascience.org
X-WR-CALDESC:Évènements pour Lyon Data Science &ndash; Communaut&eacute; data &amp; IA &agrave; Lyon
REFRESH-INTERVAL;VALUE=DURATION:PT1H
X-Robots-Tag:noindex
X-PUBLISHED-TTL:PT1H
BEGIN:VTIMEZONE
TZID:Europe/Paris
BEGIN:DAYLIGHT
TZOFFSETFROM:+0100
TZOFFSETTO:+0200
TZNAME:CEST
DTSTART:20160327T010000
END:DAYLIGHT
BEGIN:STANDARD
TZOFFSETFROM:+0200
TZOFFSETTO:+0100
TZNAME:CET
DTSTART:20161030T010000
END:STANDARD
BEGIN:DAYLIGHT
TZOFFSETFROM:+0100
TZOFFSETTO:+0200
TZNAME:CEST
DTSTART:20170326T010000
END:DAYLIGHT
BEGIN:STANDARD
TZOFFSETFROM:+0200
TZOFFSETTO:+0100
TZNAME:CET
DTSTART:20171029T010000
END:STANDARD
BEGIN:DAYLIGHT
TZOFFSETFROM:+0100
TZOFFSETTO:+0200
TZNAME:CEST
DTSTART:20180325T010000
END:DAYLIGHT
BEGIN:STANDARD
TZOFFSETFROM:+0200
TZOFFSETTO:+0100
TZNAME:CET
DTSTART:20181028T010000
END:STANDARD
END:VTIMEZONE
BEGIN:VEVENT
DTSTART;TZID=Europe/Paris:20170518T184500
DTEND;TZID=Europe/Paris:20170518T214500
DTSTAMP:20260423T131735
CREATED:20251005T153427Z
LAST-MODIFIED:20251005T155009Z
UID:1086-1495133100-1495143900@lyondatascience.org
SUMMARY:Présentation de Bayes Impact par Pascal Corpet
DESCRIPTION:Bonjour à tous !\nLe 18 mai\, Pascal vous présentera Bayes Impact. Avec des outils de startup\, une petite équipe\, du Big Data\, un produit utilisateur\, ils s’attaquent à des problèmes sociaux. En France\, avec Bob Emploi\, ils veulent aider les chercheurs d’emploi à trouver un travail plus rapidement et ainsi réduire le chômage. \nPascal abordera divers projets\, les particularités de cette startup sans actionnaires où la bienveillance est aussi importante que la performance et fera notamment un zoom sur Bob Emploi et la façon dont ils utilisent les données publiques et privées pour aider chaque utilisateur au mieux.
URL:https://lyondatascience.org/evenements/presentation-de-bayes-impact-par-pascal-corpet/
CATEGORIES:Meetup
END:VEVENT
END:VCALENDAR