BEGIN:VCALENDAR
VERSION:2.0
PRODID:-//Lyon Data Science &ndash; Communaut&eacute; data &amp; IA &agrave; Lyon - ECPv6.15.20//NONSGML v1.0//EN
CALSCALE:GREGORIAN
METHOD:PUBLISH
X-ORIGINAL-URL:https://lyondatascience.org
X-WR-CALDESC:Évènements pour Lyon Data Science &ndash; Communaut&eacute; data &amp; IA &agrave; Lyon
REFRESH-INTERVAL;VALUE=DURATION:PT1H
X-Robots-Tag:noindex
X-PUBLISHED-TTL:PT1H
BEGIN:VTIMEZONE
TZID:Europe/Paris
BEGIN:DAYLIGHT
TZOFFSETFROM:+0100
TZOFFSETTO:+0200
TZNAME:CEST
DTSTART:20160327T010000
END:DAYLIGHT
BEGIN:STANDARD
TZOFFSETFROM:+0200
TZOFFSETTO:+0100
TZNAME:CET
DTSTART:20161030T010000
END:STANDARD
BEGIN:DAYLIGHT
TZOFFSETFROM:+0100
TZOFFSETTO:+0200
TZNAME:CEST
DTSTART:20170326T010000
END:DAYLIGHT
BEGIN:STANDARD
TZOFFSETFROM:+0200
TZOFFSETTO:+0100
TZNAME:CET
DTSTART:20171029T010000
END:STANDARD
BEGIN:DAYLIGHT
TZOFFSETFROM:+0100
TZOFFSETTO:+0200
TZNAME:CEST
DTSTART:20180325T010000
END:DAYLIGHT
BEGIN:STANDARD
TZOFFSETFROM:+0200
TZOFFSETTO:+0100
TZNAME:CET
DTSTART:20181028T010000
END:STANDARD
END:VTIMEZONE
BEGIN:VEVENT
DTSTART;TZID=Europe/Paris:20170119T190000
DTEND;TZID=Europe/Paris:20170119T220000
DTSTAMP:20260423T192512
CREATED:20251005T153242Z
LAST-MODIFIED:20251005T154849Z
UID:1082-1484852400-1484863200@lyondatascience.org
SUMMARY:Apprentissage supervisé et fonctions coût
DESCRIPTION:Bonne année chers data passionnés et meilleurs voeux à tous! Pour commencer 2017 nous vous proposons une intervention détaillée sur les fonctions coûts en apprentissage supervisé.\nIntervenant : Maxime Gasse\, doctorant au LIRIS (équipe DM2L) \nPrérequis : quelques bases de machine learning\, optimisation\, probabilités. \nRésumé : Après quelques rappels de base sur l’apprentissage supervisé (minimisation de risque et fonctions coût)\, nous étudierons l’impact de différentes fonctions coût en régression standard (normes L2\, L1\, L0)\, en classification multi-label (hamming loss\, 0/1 loss\, F-loss)\, puis en régression multi-output (normes L2^2\, L1^1\, L2^1).
URL:https://lyondatascience.org/evenements/apprentissage-supervise-et-fonctions-cout/
CATEGORIES:Meetup
END:VEVENT
END:VCALENDAR