BEGIN:VCALENDAR
VERSION:2.0
PRODID:-//Lyon Data Science &ndash; Communaut&eacute; data &amp; IA &agrave; Lyon - ECPv6.15.20//NONSGML v1.0//EN
CALSCALE:GREGORIAN
METHOD:PUBLISH
X-WR-CALNAME:Lyon Data Science &ndash; Communaut&eacute; data &amp; IA &agrave; Lyon
X-ORIGINAL-URL:https://lyondatascience.org
X-WR-CALDESC:Évènements pour Lyon Data Science &ndash; Communaut&eacute; data &amp; IA &agrave; Lyon
REFRESH-INTERVAL;VALUE=DURATION:PT1H
X-Robots-Tag:noindex
X-PUBLISHED-TTL:PT1H
BEGIN:VTIMEZONE
TZID:Europe/Paris
BEGIN:DAYLIGHT
TZOFFSETFROM:+0100
TZOFFSETTO:+0200
TZNAME:CEST
DTSTART:20150329T010000
END:DAYLIGHT
BEGIN:STANDARD
TZOFFSETFROM:+0200
TZOFFSETTO:+0100
TZNAME:CET
DTSTART:20151025T010000
END:STANDARD
BEGIN:DAYLIGHT
TZOFFSETFROM:+0100
TZOFFSETTO:+0200
TZNAME:CEST
DTSTART:20160327T010000
END:DAYLIGHT
BEGIN:STANDARD
TZOFFSETFROM:+0200
TZOFFSETTO:+0100
TZNAME:CET
DTSTART:20161030T010000
END:STANDARD
BEGIN:DAYLIGHT
TZOFFSETFROM:+0100
TZOFFSETTO:+0200
TZNAME:CEST
DTSTART:20170326T010000
END:DAYLIGHT
BEGIN:STANDARD
TZOFFSETFROM:+0200
TZOFFSETTO:+0100
TZNAME:CET
DTSTART:20171029T010000
END:STANDARD
END:VTIMEZONE
BEGIN:VEVENT
DTSTART;TZID=Europe/Paris:20161201T200000
DTEND;TZID=Europe/Paris:20161201T230000
DTSTAMP:20260423T205436
CREATED:20251005T153242Z
LAST-MODIFIED:20251005T154849Z
UID:1081-1480622400-1480633200@lyondatascience.org
SUMMARY:Présentation de Dataiku DSS
DESCRIPTION:Startup parisienne créée en 2013\, Dataïku est un acteur majeur de la Data Science en France.\nDataïku DSS est une plateforme qui facilite et accélère l’analyse de données et la création d’applications business et prédictives en environnement Big Data. \nPour le dernier meetup de l’année\, Matthieu Scordia\, data scientist chez Dataïku nous présentera cette solution Made in France ! \nLa session étant à 20h00\, il est probable que nous entrerons par la porte en fer grise qui se trouve 50 m à gauche de l’entrée principale. \nA bientôt 😉
URL:https://lyondatascience.org/evenements/presentation-de-dataiku-dss/
CATEGORIES:Meetup
END:VEVENT
END:VCALENDAR