BEGIN:VCALENDAR
VERSION:2.0
PRODID:-//Lyon Data Science &ndash; Communaut&eacute; data &amp; IA &agrave; Lyon - ECPv6.15.20//NONSGML v1.0//EN
CALSCALE:GREGORIAN
METHOD:PUBLISH
X-WR-CALNAME:Lyon Data Science &ndash; Communaut&eacute; data &amp; IA &agrave; Lyon
X-ORIGINAL-URL:https://lyondatascience.org
X-WR-CALDESC:Évènements pour Lyon Data Science &ndash; Communaut&eacute; data &amp; IA &agrave; Lyon
REFRESH-INTERVAL;VALUE=DURATION:PT1H
X-Robots-Tag:noindex
X-PUBLISHED-TTL:PT1H
BEGIN:VTIMEZONE
TZID:Europe/Paris
BEGIN:DAYLIGHT
TZOFFSETFROM:+0100
TZOFFSETTO:+0200
TZNAME:CEST
DTSTART:20160327T010000
END:DAYLIGHT
BEGIN:STANDARD
TZOFFSETFROM:+0200
TZOFFSETTO:+0100
TZNAME:CET
DTSTART:20161030T010000
END:STANDARD
BEGIN:DAYLIGHT
TZOFFSETFROM:+0100
TZOFFSETTO:+0200
TZNAME:CEST
DTSTART:20170326T010000
END:DAYLIGHT
BEGIN:STANDARD
TZOFFSETFROM:+0200
TZOFFSETTO:+0100
TZNAME:CET
DTSTART:20171029T010000
END:STANDARD
BEGIN:DAYLIGHT
TZOFFSETFROM:+0100
TZOFFSETTO:+0200
TZNAME:CEST
DTSTART:20180325T010000
END:DAYLIGHT
BEGIN:STANDARD
TZOFFSETFROM:+0200
TZOFFSETTO:+0100
TZNAME:CET
DTSTART:20181028T010000
END:STANDARD
END:VTIMEZONE
BEGIN:VEVENT
DTSTART;TZID=Europe/Paris:20170316T190000
DTEND;TZID=Europe/Paris:20170316T203000
DTSTAMP:20260423T144518
CREATED:20251005T153427Z
LAST-MODIFIED:20251005T155009Z
UID:1084-1489690800-1489696200@lyondatascience.org
SUMMARY:Retour d’expérience Data Science par Gaëtan Constant
DESCRIPTION:Lors de cette session\, Gaëtan de Datalyo nous fera un retour d’expérience de l’implémentation chez un de ses clients de solutions Data Science.Il traitera du cadrage business de la problématique du client\, de l’installation d’une plateforme de travail Data Science\, des différents algorithmes utilisés lors de la mission ainsi que du processus de mise en production de l’algorithme. \nPré-requis:\nLa présentation sera interactive et ne nécessitera pas de compétences techniques préalables. Les aspects métiers seront simples et détaillés afin que chacun puisse interagir.\nCela sera donc l’occasion de pouvoir échanger sur les bonnes pratiques d’une étude Data Science et des enjeux Business qui peuvent se cacher derrière les données d’entreprises. \nL’équipe LDS.
URL:https://lyondatascience.org/evenements/retour-dexperience-data-science-par-gaetan-constant/
CATEGORIES:Meetup
END:VEVENT
END:VCALENDAR