BEGIN:VCALENDAR
VERSION:2.0
PRODID:-//Lyon Data Science &ndash; Communaut&eacute; data &amp; IA &agrave; Lyon - ECPv6.15.20//NONSGML v1.0//EN
CALSCALE:GREGORIAN
METHOD:PUBLISH
X-WR-CALNAME:Lyon Data Science &ndash; Communaut&eacute; data &amp; IA &agrave; Lyon
X-ORIGINAL-URL:https://lyondatascience.org
X-WR-CALDESC:Évènements pour Lyon Data Science &ndash; Communaut&eacute; data &amp; IA &agrave; Lyon
REFRESH-INTERVAL;VALUE=DURATION:PT1H
X-Robots-Tag:noindex
X-PUBLISHED-TTL:PT1H
BEGIN:VTIMEZONE
TZID:Europe/Paris
BEGIN:DAYLIGHT
TZOFFSETFROM:+0100
TZOFFSETTO:+0200
TZNAME:CEST
DTSTART:20150329T010000
END:DAYLIGHT
BEGIN:STANDARD
TZOFFSETFROM:+0200
TZOFFSETTO:+0100
TZNAME:CET
DTSTART:20151025T010000
END:STANDARD
BEGIN:DAYLIGHT
TZOFFSETFROM:+0100
TZOFFSETTO:+0200
TZNAME:CEST
DTSTART:20160327T010000
END:DAYLIGHT
BEGIN:STANDARD
TZOFFSETFROM:+0200
TZOFFSETTO:+0100
TZNAME:CET
DTSTART:20161030T010000
END:STANDARD
BEGIN:DAYLIGHT
TZOFFSETFROM:+0100
TZOFFSETTO:+0200
TZNAME:CEST
DTSTART:20170326T010000
END:DAYLIGHT
BEGIN:STANDARD
TZOFFSETFROM:+0200
TZOFFSETTO:+0100
TZNAME:CET
DTSTART:20171029T010000
END:STANDARD
END:VTIMEZONE
BEGIN:VEVENT
DTSTART;TZID=Europe/Paris:20161116T190000
DTEND;TZID=Europe/Paris:20161116T220000
DTSTAMP:20260423T204818
CREATED:20251005T153242Z
LAST-MODIFIED:20251005T154849Z
UID:1080-1479322800-1479333600@lyondatascience.org
SUMMARY:Atelier Metabase - Explorez vos données !
DESCRIPTION:LDS vous propose un atelier sur Metabase (http://www.metabase.com/)\, une application open source qui facilite la création de dashboards pour présenter vos données de façons élégantes !\nNotre intervenant\, Gabriel Pillet (https://twitter.com/tentacode)\, présentera succinctement l’outil et une fois Metabase installé\, ca sera à vous de jouer !\nN’hésitez pas à ramener vos propres jeux de données\, si vous en avez pas sous la main\, Gabriel se fera un plaisir de vous fournir ses données sur les chatons 😉 \nPrérequis : Cet atelier est à destination des développeurs (débutants à confirmés). \nRéservez vos places vite\, on ne pourra accueillir que 20 personnes !
URL:https://lyondatascience.org/evenements/atelier-metabase-explorez-vos-donnees/
CATEGORIES:Meetup
END:VEVENT
END:VCALENDAR